BEGIN:VCALENDAR
VERSION:2.0
PRODID:-//Meridian Fire Fighters Local 4627 - ECPv6.15.20//NONSGML v1.0//EN
CALSCALE:GREGORIAN
METHOD:PUBLISH
X-ORIGINAL-URL:https://www.meridianfirefighters.org
X-WR-CALDESC:Events for Meridian Fire Fighters Local 4627
REFRESH-INTERVAL;VALUE=DURATION:PT1H
X-Robots-Tag:noindex
X-PUBLISHED-TTL:PT1H
BEGIN:VTIMEZONE
TZID:UTC
BEGIN:STANDARD
TZOFFSETFROM:+0000
TZOFFSETTO:+0000
TZNAME:UTC
DTSTART:20180101T000000
END:STANDARD
END:VTIMEZONE
BEGIN:VEVENT
DTSTART;TZID=UTC:20230804T180000
DTEND;TZID=UTC:20230804T220000
DTSTAMP:20260424T173659
CREATED:20220708T152529Z
LAST-MODIFIED:20230801T211002Z
UID:1524-1691172000-1691186400@www.meridianfirefighters.org
SUMMARY:MERIDIAN FIREFIGHTER’S SALMON BBQ - 2023
DESCRIPTION:Details of 2023 Salmon BBQ
URL:https://www.meridianfirefighters.org/event/meridian-firefighters-salmon-bbq-2022/
LOCATION:KLEINER PARK meridian idaho\, 1900 N. Records Avenue\, Meridian\, ID\, 83642\, United States
CATEGORIES:New
END:VEVENT
BEGIN:VEVENT
DTSTART;TZID=UTC:20230804T170000
DTEND;TZID=UTC:20230804T210000
DTSTAMP:20260424T173659
CREATED:20160511T122752Z
LAST-MODIFIED:20230801T211207Z
UID:324-1691168400-1691182800@www.meridianfirefighters.org
SUMMARY:MERIDIAN FIREFIGHTER’S SALMON BBQ – 2023
DESCRIPTION:The Meridian Firefighters Local 4627 Benevolent Fund sponsors an annual Salmon BBQ the first Friday of August. Your ticket entitles you to Applewood smoked salmon\, coleslaw\, fries\, soda\, and bread. All proceeds go to the Meridian Fire Fighters Local 4627 Benevolent Fund and the Meridian Burn Out Fund. The Burn-Out Fund provides emergency assistance to families and individuals who are impacted by fire and other disasters. The Burn-Out Fund has provided relief to many Meridian residents. Our aim is to respond immediately and assist disaster victims with resources for their urgent shelter\, food and clothing needs. \nWhen: First Friday in August. Seniors served at 5 p.m.\, general public served at 6 p.m. \nWhere: Julius M. Kleiner park \n1900 North Records Way\, Meridian\, ID \nMenu: Applewood-smoked salmon\, fries\, coleslaw\, rolls\, hot dogs for kids\, soda\, milk\, water \nTickets: $20 for adults; $10 for kids 6-12; free for children 5 and under.
URL:https://www.meridianfirefighters.org/event/salmon-bbq/
LOCATION:Julius M. Kleiner park\, Julius M. Kleiner park - 1900 North Records Way\, Meridian\, ID\, 83642\, United States
CATEGORIES:New
ATTACH;FMTTYPE=image/jpeg:https://www.meridianfirefighters.org/wp-content/uploads/2016/06/13934987_650583098452252_2152899328376768772_n.jpg
END:VEVENT
BEGIN:VEVENT
DTSTART;VALUE=DATE:20200314
DTEND;VALUE=DATE:20200315
DTSTAMP:20260424T173659
CREATED:20160511T122847Z
LAST-MODIFIED:20200705T191819Z
UID:326-1584144000-1584230399@www.meridianfirefighters.org
SUMMARY:12th Annual Luck o' the Irish Casino Night
DESCRIPTION:The Meridian Optimist Club\, together with the Meridian Firefighter’s Benevolent Fund\, will be co-sponsoring our 12th annual “Luck O’ the Irish” Casino Night.  This event will be held Saturday\, March 14\, 2020\, from 6:30 – 11:00 p.m.  The event is being held at the “Center at the Park” in the Julius M. Kleiner Park\, next to the The Village\, 1920 N. Records Avenue\, Meridian\, Idaho. \nProceeds from this event will go to the Meridian Firefighters Burnout Fund\, Meridian Optimist Club’s Youth Programs\, and the Meridian Optimist Junior Rifle Club.    \nEntry tickets are $5 per person\, which includes play money and a door prize ticket.  Bring two non-perishable food items for the Meridian Food Bank and receive $5 off admission and an extra $100 in play money!  Raffle tickets will be on sale throughout the evening with many great items to be raffled.  There will also be three door prizes given away throughout the evening of $50 cash each.   If you are interested in purchasing advanced entry tickets\, please contact Bill or Kim at info@meridianoptimist.org. \n 
URL:https://www.meridianfirefighters.org/event/12th-annual-luck-o-the-irish-casino-night/
LOCATION:Julius M. Kleiner Park Last\, Julius M. Kleiner Park - 1920 N. Records Avenue\, Meridian\, ID\, 83642\, United States
CATEGORIES:New
ATTACH;FMTTYPE=image/jpeg:https://www.meridianfirefighters.org/wp-content/uploads/2016/04/gallery08.jpg
ORGANIZER;CN="Police Department":MAILTO:example@mail.com
END:VEVENT
BEGIN:VEVENT
DTSTART;TZID=UTC:20190302T110000
DTEND;TZID=UTC:20190302T150000
DTSTAMP:20260424T173659
CREATED:20160511T122813Z
LAST-MODIFIED:20200705T191831Z
UID:325-1551524400-1551538800@www.meridianfirefighters.org
SUMMARY:Meridian Firefighter's Chili Cook Off - 11th Annual
DESCRIPTION:Meridian Firefighters Pipes and Drums 11th Annual Chili Cook-off \nWhen:  March 2\, 2019 – 11am-3pm\nWhere:  Meridian Speedway\nCost:  General Admission – $5.00\, Seniors 55+ – $4.00\, Children 10 and under – FREE \nChili is included in the admission.  Water\, soda\, and beer will be available for purchase.  We hope you can come out and support us at the 11th annual Meridian Firefighter’s Chili Cookoff.  Proceeds from the cookoff benefit the Meridian Fire Honor Guard\, Meridian Pipes and Drums\, and the Local 4627 Benevolent Fund.  We hope to see you there! \nTeam Entry Form\nSponsorship Form \nFor more information regarding team entry or sponsorship\, please contact Meridian Firefighter Bill Schuler at 208-697-1787 or email wrschuler33@gmail.com.
URL:https://www.meridianfirefighters.org/event/meridian-firefighters-chili-cook-off-11th-annual/
LOCATION:Julius M. Kleiner park\, Julius M. Kleiner park - 1900 North Records Way\, Meridian\, ID\, 83642\, United States
CATEGORIES:New
ATTACH;FMTTYPE=image/jpeg:https://www.meridianfirefighters.org/wp-content/uploads/2016/04/gallery04-1.jpg
ORGANIZER;CN="Police Department":MAILTO:example@mail.com
END:VEVENT
END:VCALENDAR